BEGIN:VCALENDAR
VERSION:2.0
PRODID:-//Tukios.com/
BEGIN:VEVENT
UID:e78d6300-7c8c-43c1-9723-e2f53b38b98b@www.edgerlyfh.com
DTSTAMP:20260420T025217Z
DTSTART:20260430T200000Z
DTEND:20260430T220000Z
SUMMARY:Visitation
DESCRIPTION:
URL:https://www.edgerlyfh.com/obituaries/emerson-buzz-bennett-jr
LOCATION: 86 S Main St  Rochester NH 03867
GEO:43.3020655;-70.97302
END:VEVENT
END:VCALENDAR