BEGIN:VCALENDAR
VERSION:2.0
PRODID:-//Tukios.com/
BEGIN:VEVENT
UID:c62ee240-afe7-4009-9552-b028a9edb071@www.edgerlyfh.com
DTSTAMP:20260420T025648Z
DTSTART:20260430T203000Z
DTEND:20260430T213000Z
SUMMARY:Memorial Service
DESCRIPTION:
URL:https://www.edgerlyfh.com/obituaries/emerson-buzz-bennett-jr
LOCATION:R.M Edgerly & Son Funeral Home 86 South Main Street  Rochester 
	NH 03867
GEO:43.3020655;-70.97302
END:VEVENT
END:VCALENDAR